Workbook

Sheet Table 1
A1: 杭州电子科技大学理学院第二届理海争锋·趣味数学物理知识竞赛获奖名单
A2: 序号 | B2: 学号 | C2: 姓名 | D2: 专业 | E2: 学院 | F2: 获奖
A3: 1 | B3: 17072107 | C3: 陈绪涛 | D3: 光电技术与物理类 | E3: =VLOOKUP(B3,Sheet1!B1:D1008,2,FALSE) -> 理学院 | F3: 一等奖
A4: 2 | B4: 15041111 | C4: 陈思泊 | D4: =VLOOKUP(B4,Sheet2!C2:D1009,2,0) -> 电子信息工程 | E4: =VLOOKUP(B4,Sheet1!B2:D1009,2,FALSE) -> 电子信息学院 | F4: 一等奖
A5: 3 | B5: 16271201 | C5: 纪岚枫 | D5: =VLOOKUP(B5,Sheet2!C3:D1010,2,0) -> 信息安全 | E5: =VLOOKUP(B5,Sheet1!B3:D1010,2,FALSE) -> 网络空间安全学院 | F5: 一等奖
A6: 4 | B6: 17081610 | C6: 陈佳明 | D6: 信息安全 | E6: 网络空间安全学院 | F6: 一等奖
A7: 5 | B7: 16081428 | C7: 徐灵建 | D7: =VLOOKUP(B7,Sheet2!C5:D1012,2,0) -> 通信工程 | E7: =VLOOKUP(B7,Sheet1!B5:D1012,2,FALSE) -> 通信工程学院 | F7: 一等奖
A8: 6 | B8: 17032229 | C8: 吴彦霖 | D8: 信息管理与信息系统 | E8: 管理学院 | F8: 一等奖
A9: 7 | B9: 16073115 | C9: 蒋宇衡 | D9: 信息与计算科学 | E9: =VLOOKUP(B9,Sheet1!B7:D1014,2,FALSE) -> 理学院 | F9: 一等奖
A10: 8 | B10: 17072232 | C10: 杨嘉祺 | D10: 光电技术与物理类 | E10: 理学院 | F10: 一等奖
A11: 9 | B11: 15063507 | C11: 陈龙 | D11: =VLOOKUP(B11,Sheet2!C9:D1016,2,0) -> 电气工程及其自动化 | E11: =VLOOKUP(B11,Sheet1!B9:D1016,2,FALSE) -> 自动化学院 | F11: 一等奖
A12: 10 | B12: 16081725 | C12: 杨嘉鑫 | D12: =VLOOKUP(B12,Sheet2!C10:D1017,2,0) -> 通信工程 | E12: 通信工程学院 | F12: 一等奖
A13: 11 | B13: 17072207 | C13: 崔凯科 | D13: 光电技术与物理类 | E13: =VLOOKUP(B13,Sheet1!B12:D1019,2,FALSE) -> 理学院 | F13: 一等奖
A14: 12 | B14: 17081221 | C14: 林尚铤 | D14: =VLOOKUP(B14,Sheet2!C12:D1019,2,0) -> 信息安全 | E14: 网络空间安全学院 | F14: 一等奖
A15: 13 | B15: 17081414 | C15: 冯迪思航 | D15: =VLOOKUP(B15,Sheet2!C13:D1020,2,0) -> 信息对抗技术 | E15: =VLOOKUP(B15,Sheet1!B15:D1022,2,FALSE) -> 通信工程学院 | F15: 一等奖
A16: 14 | B16: 17071238 | C16: 叶舒展 | D16: 信息与计算科学 | E16: 理学院 | F16: 一等奖
A17: 15 | B17: 16201229 | C17: 许嘉伟 | D17: =VLOOKUP(B17,Sheet2!C15:D1022,2,0) -> 网络工程 | E17: =VLOOKUP(B17,Sheet1!B13:D1020,2,FALSE) -> 网络空间安全学院 | F17: 一等奖
A18: 16 | B18: 17202132 | C18: 王翔昊 | D18: =VLOOKUP(B18,Sheet2!C16:D1023,2,0) -> 信息安全 | E18: 网络空间安全学院 | F18: 一等奖
A19: 17 | B19: 17072120 | C19: 彭凌峰 | D19: 光电技术与物理类 | E19: =VLOOKUP(B19,Sheet1!B17:D1024,2,FALSE) -> 理学院 | F19: 二等奖
A20: 18 | B20: 16272124 | C20: 廖忠祥 | D20: =VLOOKUP(B20,Sheet2!C18:D1025,2,0) -> 网络工程 | E20: 网络空间安全学院 | F20: 二等奖
A21: 19 | B21: 16151133 | C21: 袁天恩 | D21: =VLOOKUP(B21,Sheet2!C19:D1026,2,0) -> 国际经济与贸易 | E21: =VLOOKUP(B21,Sheet1!B19:D1026,2,0) -> 经济学院 | F21: 二等奖
A22: 20 | B22: 16081525 | C22: 徐嘉诚 | D22: 信息对抗技术 | E22: 通信工程学院 | F22: 二等奖
A23: 21 | B23: 17071225 | C23: 缪启君 | D23: =VLOOKUP(B23,Sheet2!C21:D1028,2,0) -> 信息与计算科学 | E23: =VLOOKUP(B23,Sheet1!B21:D1028,2,0) -> 理学院 | F23: 二等奖
A24: 22 | B24: 17051312 | C24: 冯鼎 | D24: =VLOOKUP(B24,Sheet2!C22:D1029,2,0) -> 软件工程 | E24: =VLOOKUP(B24,Sheet1!B22:D1029,2,0) -> 计算机学院 | F24: 二等奖
A25: 23 | B25: 17072209 | C25: 付嘉伟 | D25: =VLOOKUP(B25,Sheet2!C23:D1030,2,0) -> 光电技术与物理类 | E25: =VLOOKUP(B25,Sheet1!B23:D1030,2,0) -> 理学院 | F25: 二等奖
A26: 24 | B26: 15041139 | C26: 张昊 | D26: =VLOOKUP(B26,Sheet2!C24:D1031,2,0) -> 电子科学与技术 | E26: =VLOOKUP(B26,Sheet1!B25:D1032,2,0) -> 电子信息学院 | F26: 二等奖
A27: 25 | B27: 17201217 | C27: 林颂钧 | D27: =VLOOKUP(B27,Sheet2!C25:D1032,2,0) -> 材料科学与工程 | E27: =VLOOKUP(B27,Sheet1!B26:D1033,2,0) -> 材料与环境工程学院 | F27: 二等奖
A28: 26 | B28: 15084242 | C28: 张衡权 | D28: =VLOOKUP(B28,Sheet2!C26:D1033,2,0) -> 信息安全 | E28: =VLOOKUP(B28,Sheet1!B39:D1046,2,0) -> 网络空间安全学院 | F28: 二等奖
A29: 27 | B29: 17081130 | C29: 徐钦超 | D29: =VLOOKUP(B29,Sheet2!C27:D1034,2,0) -> 通信工程 | E29: 通信工程学院 | F29: 二等奖
A30: 28 | B30: 16081931 | C30: 赵毅鹏 | D30: =VLOOKUP(B30,Sheet2!C28:D1035,2,0) -> 通信工程 | E30: =VLOOKUP(B30,Sheet1!B29:D1036,2,0) -> 通信工程学院 | F30: 二等奖
A31: 29 | B31: 16011313 | C31: 李孔强 | D31: =VLOOKUP(B31,Sheet2!C29:D1036,2,0) -> 信息安全 | E31: 网络空间安全学院 | F31: 二等奖
A32: 30 | B32: 16271109 | C32: 周昕桐 | D32: =VLOOKUP(B32,Sheet2!C30:D1037,2,0) -> 信息安全 | E32: 网络空间安全学院 | F32: 二等奖
A33: 31 | B33: 16081513 | C33: 郎盛 | D33: =VLOOKUP(B33,Sheet2!C31:D1038,2,0) -> 通信工程 | E33: =VLOOKUP(B33,Sheet1!B32:D1039,2,0) -> 通信工程学院 | F33: 二等奖
A34: 32 | B34: 16120330 | C34: 林剑峰 | D34: =VLOOKUP(B34,Sheet2!C32:D1039,2,0) -> 集成电路设计与集成系统 | E34: =VLOOKUP(B34,Sheet1!B33:D1040,2,0) -> 电子信息学院 | F34: 二等奖
A35: 33 | B35: 16081722 | C35: 温珍银 | D35: =VLOOKUP(B35,Sheet2!C33:D1040,2,0) -> 通信工程 | E35: 通信工程学院 | F35: 二等奖
A36: 34 | B36: 16081929 | C36: 张裕康 | D36: =VLOOKUP(B36,Sheet2!C34:D1041,2,0) -> 通信工程 | E36: 通信工程学院 | F36: 二等奖
A37: 35 | B37: 16011432 | C37: 赵渠淳 | D37: =VLOOKUP(B37,Sheet2!C35:D1042,2,0) -> 机械设计制造及其自动化 | E37: =VLOOKUP(B37,Sheet1!B37:D1044,2,0) -> 机械工程学院 | F37: 二等奖
A38: 36 | B38: 16070216 | C38: 王卓彪 | D38: =VLOOKUP(B38,Sheet2!C36:D1043,2,0) -> 信息安全 | E38: =VLOOKUP(B38,Sheet1!B38:D1045,2,0) -> 网络空间安全学院 | F38: 二等奖
A39: 37 | B39: 17220320 | C39: 秦子阳 | D39: =VLOOKUP(B39,Sheet2!C37:D1044,2,0) -> 数字媒体技术 | E39: =VLOOKUP(B39,Sheet1!B40:D1047,2,0) -> 数字媒体与艺术设计学院 | F39: 二等奖
A40: 38 | B40: 17272118 | C40: 李金宸 | D40: =VLOOKUP(B40,Sheet2!C38:D1045,2,0) -> 网络工程 | E40: =VLOOKUP(B40,Sheet1!B42:D1049,2,0) -> 网络空间安全学院 | F40: 二等奖
...

Sheet Sheet1
A1: 王滇伟 | B1: 16041230 | C1: 电子信息学院
A2: 常洪钊 | B2: 16041110 | C2: 电子信息学院
A3: 曹佳芳 | B3: 17071101 | C3: 理学院
A4: 赵晨泽 | B4: 16081530 | C4: 通信工程学院
A5: 王嘉敏 | B5: 17141719 | C5: 会计学院
A6: 朱晨宇 | B6: 17071243 | C6: 理学院
A7: 胡天浩 | B7: 15200215 | C7: 计算机学院
A8: 黄明兴 | B8: 16041120 | C8: 电子信息学院
A9: 张申安 | B9: 16041344 | C9: 电子信息
A10: 吴月鹏 | B10: 16041134 | C10: 电子信息
A11: 陈智寅 | B11: 16041316 | C11: 电子信息学院
A12: 郑云迪 | B12: 16041445 | C12: 电子信息学院
... A1008: 方逢祺 | B1008: 17071122 | C1008: 理学院

Sheet Sheet2
A1: 王滇伟 | B1: 电子信息学院 | C1: 16041230 | D1: 集成电路设计与集成系统
A2: 常洪钊 | B2: 电子信息学院 | C2: 16041110 | D2: 集成
A3: 曹佳芳 | B3: 理学院 | C3: 17071101 | D3: 信息与计算科学
A4: 赵晨泽 | B4: 通信工程学院 | C4: 16081530 | D4: 通信工程
A5: 王嘉敏 | B5: 会计学院 | C5: 17141719 | D5: 会计
A6: 朱晨宇 | B6: 理学院 | C6: 17071243 | D6: 数学与应用数学
A7: 胡天浩 | B7: 计算机学院 | C7: 15200215 | D7: 物联网工程
A8: 黄明兴 | B8: 电子信息学院 | C8: 16041120 | D8: 集成电路设计与集成系统
A9: 张申安 | B9: 电子信息 | C9: 16041344 | D9: 电子信息工程
A10: 吴月鹏 | B10: 电子信息 | C10: 16041134 | D10: 集成电路设计与集成系统
A11: 陈智寅 | B11: 电子信息学院 | C11: 16041316 | D11: 集成设计
A12: 郑云迪 | B12: 电子信息学院 | C12: 16041445 | D12: 集成电路设计与集成系统
... A530: 黄飞 | B530: 管理学院 | C530: 15031339 | D530: 市场营销
A531: 李昊 | B531: 网络空间安全学院 | C531: 15084223 | D531: 15083612
A532: 谭路平 | B532: 通信工程 | C532: 16081522 | D532: 通信工程
A533: 曹芷君 | B533: 会计学院 | C533: 17141302 | D533: 会计学
A534: 郑航航 | B534: 通信工程学院 | C534: 16081531 | D534: 信息对抗技术
A535: 敖昕玥 | B535: 会计学院 | C535: 17141301 | D535: 会计
A536: 徐钦超 | B536: 通信工程 | C536: 17081130 | D536: 通信工程
A537: 孙宇 | B537: 通信工程 | C537: 16081603 | D537: 通信工程
A538: 张衡权 | B538: 网络空间安全学院 | C538: 15084242 | D538: 信息安全
A539: 徐少剑 | B539: 数字媒体与艺术设计学院 | C539: 15222514 | D539: 数字媒体技术
A540: 周航 | B540: 网络空间安全学院 | C540: 15084211 | D540: 信息安全
A541: 盛意浓 | B541: 通信工程学院 | C541: 16081520 | D541: 通信工程类
A542: 余琪圣 | B542: 数字媒体与艺术设计学院 | C542: 15222519 | D542: 数字媒体技术
A543: 祝剑军 | B543: 机械工程学院 | C543: 16011235 | D543: 机械设计制造及其自动化
... A684: 张舒娴 | B684: 经济学院 | C684: 16151119 | D684: 国际经济与贸易
A685: 吴逸芃 | B685: 通信工程学院 | C685: 16081324 | D685: 16083413
A686: 赵诗雨 | B686: 经济学院 | C686: 17158219 | D686: 国际经济与贸易
A687: 姜霓裳 | B687: 理学院 | C687: 17071103 | D687: 信息与计算科学
A688: 刘炯晗 | B688: 通信工程 | C688: 16081103 | D688: 通信工程
A689: 钟哲 | B689: 经济学院 | C689: 16153150 | D689: 经济学
A690: 尹立 | B690: 通信工程 | C690: 16081926 | D690: 通信工程
A691: 张杰 | B691: 通信工程 | C691: 16081129 | D691: 通信工程
A692: 陈曈 | B692: 材环学院 | C692: 17201301 | D692: 材料
A693: 张裕康 | B693: 通信工程 | C693: 16081929 | D693: 通信工程
A694: 李星辉 | B694: 通信工程学院 | C694: 16081413 | D694: 通信工程
A695: 徐陟怡 | B695: 通信工程 | C695: 16081526 | D695: 通信工程
A696: 何明坤 | B696: 通信工程学院 | C696: 16081612 | D696: 信息对抗技术
A697: 陈明 | B697: 经济学院 | C697: 16070410 | D697: 数学与应用数学（与金融学复合）
...
