Workbook

Sheet Table 1
A1: 杭州电子科技大学理学院第二届理海争锋·趣味数学物理知识竞赛获奖名单
A2: 序号 | B2: 学号 | C2: 姓名 | D2: 专业 | E2: 学院 | F2: 获奖
A3: 1 | B3: 17072107 | C3: 陈绪涛 | D3: 光电技术与物理类 | E3: =VLOOKUP(B3,Sheet1!B1:D1008,2,FALSE) -> 理学院 | F3: 一等奖
A4: 2 | B4: 15041111 | C4: 陈思泊 | D4: =VLOOKUP(B4,Sheet2!C2:D1009,2,0) -> 电子信息工程 | E4: =VLOOKUP(B4,Sheet1!B2:D1009,2,FALSE) -> 电子信息学院 | F4: 一等奖
A5: 3 | B5: 16271201 | C5: 纪岚枫 | D5: =VLOOKUP(B5,Sheet2!C3:D1010,2,0) -> 信息安全 | E5: =VLOOKUP(B5,Sheet1!B3:D1010,2,FALSE) -> 网络空间安全学院 | F5: 一等奖
A6: 4 | B6: 17081610 | C6: 陈佳明 | D6: 信息安全 | E6: 网络空间安全学院 | F6: 一等奖
A7: 5 | B7: 16081428 | C7: 徐灵建 | D7: =VLOOKUP(B7,Sheet2!C5:D1012,2,0) -> 通信工程 | E7: =VLOOKUP(B7,Sheet1!B5:D1012,2,FALSE) -> 通信工程学院 | F7: 一等奖
A8: 6 | B8: 17032229 | C8: 吴彦霖 | D8: 信息管理与信息系统 | E8: 管理学院 | F8: 一等奖
A9: 7 | B9: 16073115 | C9: 蒋宇衡 | D9: 信息与计算科学 | E9: =VLOOKUP(B9,Sheet1!B7:D1014,2,FALSE) -> 理学院 | F9: 一等奖
A10: 8 | B10: 17072232 | C10: 杨嘉祺 | D10: 光电技术与物理类 | E10: 理学院 | F10: 一等奖
A11: 9 | B11: 15063507 | C11: 陈龙 | D11: =VLOOKUP(B11,Sheet2!C9:D1016,2,0) -> 电气工程及其自动化 | E11: =VLOOKUP(B11,Sheet1!B9:D1016,2,FALSE) -> 自动化学院 | F11: 一等奖
A12: 10 | B12: 16081725 | C12: 杨嘉鑫 | D12: =VLOOKUP(B12,Sheet2!C10:D1017,2,0) -> 通信工程 | E12: 通信工程学院 | F12: 一等奖
A13: 11 | B13: 17072207 | C13: 崔凯科 | D13: 光电技术与物理类 | E13: =VLOOKUP(B13,Sheet1!B12:D1019,2,FALSE) -> 理学院 | F13: 一等奖
A14: 12 | B14: 17081221 | C14: 林尚铤 | D14: =VLOOKUP(B14,Sheet2!C12:D1019,2,0) -> 信息安全 | E14: 网络空间安全学院 | F14: 一等奖
A15: 13 | B15: 17081414 | C15: 冯迪思航 | D15: =VLOOKUP(B15,Sheet2!C13:D1020,2,0) -> 信息对抗技术 | E15: =VLOOKUP(B15,Sheet1!B15:D1022,2,FALSE) -> 通信工程学院 | F15: 一等奖
A16: 14 | B16: 17071238 | C16: 叶舒展 | D16: 信息与计算科学 | E16: 理学院 | F16: 一等奖
A17: 15 | B17: 16201229 | C17: 许嘉伟 | D17: =VLOOKUP(B17,Sheet2!C15:D1022,2,0) -> 网络工程 | E17: =VLOOKUP(B17,Sheet1!B13:D1020,2,FALSE) -> 网络空间安全学院 | F17: 一等奖
A18: 16 | B18: 17202132 | C18: 王翔昊 | D18: =VLOOKUP(B18,Sheet2!C16:D1023,2,0) -> 信息安全 | E18: 网络空间安全学院 | F18: 一等奖
A19: 17 | B19: 17072120 | C19: 彭凌峰 | D19: 光电技术与物理类 | E19: =VLOOKUP(B19,Sheet1!B17:D1024,2,FALSE) -> 理学院 | F19: 二等奖
A20: 18 | B20: 16272124 | C20: 廖忠祥 | D20: =VLOOKUP(B20,Sheet2!C18:D1025,2,0) -> 网络工程 | E20: 网络空间安全学院 | F20: 二等奖
A21: 19 | B21: 16151133 | C21: 袁天恩 | D21: =VLOOKUP(B21,Sheet2!C19:D1026,2,0) -> 国际经济与贸易 | E21: =VLOOKUP(B21,Sheet1!B19:D1026,2,0) -> 经济学院 | F21: 二等奖
A22: 20 | B22: 16081525 | C22: 徐嘉诚 | D22: 信息对抗技术 | E22: 通信工程学院 | F22: 二等奖
A23: 21 | B23: 17071225 | C23: 缪启君 | D23: =VLOOKUP(B23,Sheet2!C21:D1028,2,0) -> 信息与计算科学 | E23: =VLOOKUP(B23,Sheet1!B21:D1028,2,0) -> 理学院 | F23: 二等奖
A24: 22 | B24: 17051312 | C24: 冯鼎 | D24: =VLOOKUP(B24,Sheet2!C22:D1029,2,0) -> 软件工程 | E24: =VLOOKUP(B24,Sheet1!B22:D1029,2,0) -> 计算机学院 | F24: 二等奖
A25: 23 | B25: 17072209 | C25: 付嘉伟 | D25: =VLOOKUP(B25,Sheet2!C23:D1030,2,0) -> 光电技术与物理类 | E25: =VLOOKUP(B25,Sheet1!B23:D1030,2,0) -> 理学院 | F25: 二等奖
A26: 24 | B26: 15041139 | C26: 张昊 | D26: =VLOOKUP(B26,Sheet2!C24:D1031,2,0) -> 电子科学与技术 | E26: =VLOOKUP(B26,Sheet1!B25:D1032,2,0) -> 电子信息学院 | F26: 二等奖
A27: 25 | B27: 17201217 | C27: 林颂钧 | D27: =VLOOKUP(B27,Sheet2!C25:D1032,2,0) -> 材料科学与工程 | E27: =VLOOKUP(B27,Sheet1!B26:D1033,2,0) -> 材料与环境工程学院 | F27: 二等奖
A28: 26 | B28: 15084242 | C28: 张衡权 | D28: =VLOOKUP(B28,Sheet2!C26:D1033,2,0) -> 信息安全 | E28: =VLOOKUP(B28,Sheet1!B39:D1046,2,0) -> 网络空间安全学院 | F28: 二等奖
A29: 27 | B29: 17081130 | C29: 徐钦超 | D29: =VLOOKUP(B29,Sheet2!C27:D1034,2,0) -> 通信工程 | E29: 通信工程学院 | F29: 二等奖
A30: 28 | B30: 16081931 | C30: 赵毅鹏 | D30: =VLOOKUP(B30,Sheet2!C28:D1035,2,0) -> 通信工程 | E30: =VLOOKUP(B30,Sheet1!B29:D1036,2,0) -> 通信工程学院 | F30: 二等奖
A31: 29 | B31: 16011313 | C31: 李孔强 | D31: =VLOOKUP(B31,Sheet2!C29:D1036,2,0) -> 信息安全 | E31: 网络空间安全学院 | F31: 二等奖
A32: 30 | B32: 16271109 | C32: 周昕桐 | D32: =VLOOKUP(B32,Sheet2!C30:D1037,2,0) -> 信息安全 | E32: 网络空间安全学院 | F32: 二等奖
A33: 31 | B33: 16081513 | C33: 郎盛 | D33: =VLOOKUP(B33,Sheet2!C31:D1038,2,0) -> 通信工程 | E33: =VLOOKUP(B33,Sheet1!B32:D1039,2,0) -> 通信工程学院 | F33: 二等奖
A34: 32 | B34: 16120330 | C34: 林剑峰 | D34: =VLOOKUP(B34,Sheet2!C32:D1039,2,0) -> 集成电路设计与集成系统 | E34: =VLOOKUP(B34,Sheet1!B33:D1040,2,0) -> 电子信息学院 | F34: 二等奖
A35: 33 | B35: 16081722 | C35: 温珍银 | D35: =VLOOKUP(B35,Sheet2!C33:D1040,2,0) -> 通信工程 | E35: 通信工程学院 | F35: 二等奖
A36: 34 | B36: 16081929 | C36: 张裕康 | D36: =VLOOKUP(B36,Sheet2!C34:D1041,2,0) -> 通信工程 | E36: 通信工程学院 | F36: 二等奖
A37: 35 | B37: 16011432 | C37: 赵渠淳 | D37: =VLOOKUP(B37,Sheet2!C35:D1042,2,0) -> 机械设计制造及其自动化 | E37: =VLOOKUP(B37,Sheet1!B37:D1044,2,0) -> 机械工程学院 | F37: 二等奖
A38: 36 | B38: 16070216 | C38: 王卓彪 | D38: =VLOOKUP(B38,Sheet2!C36:D1043,2,0) -> 信息安全 | E38: =VLOOKUP(B38,Sheet1!B38:D1045,2,0) -> 网络空间安全学院 | F38: 二等奖
A39: 37 | B39: 17220320 | C39: 秦子阳 | D39: =VLOOKUP(B39,Sheet2!C37:D1044,2,0) -> 数字媒体技术 | E39: =VLOOKUP(B39,Sheet1!B40:D1047,2,0) -> 数字媒体与艺术设计学院 | F39: 二等奖
A40: 38 | B40: 17272118 | C40: 李金宸 | D40: =VLOOKUP(B40,Sheet2!C38:D1045,2,0) -> 网络工程 | E40: =VLOOKUP(B40,Sheet1!B42:D1049,2,0) -> 网络空间安全学院 | F40: 二等奖
A41: 39 | B41: 16071213 | C41: 马继备 | D41: =VLOOKUP(B41,Sheet2!C39:D1046,2,0) -> 光电信息科学与技术 | E41: =VLOOKUP(B41,Sheet1!B43:D1050,2,0) -> 理学院 | F41: 二等奖
A42: 40 | B42: 16081223 | C42: 王杰鹏 | D42: =VLOOKUP(B42,Sheet2!C40:D1047,2,0) -> 通信工程 | E42: =VLOOKUP(B42,Sheet1!B44:D1051,2,0) -> 通信工程学院 | F42: 二等奖
A43: 41 | B43: 16031207 | C43: 胡馨文 | D43: =VLOOKUP(B43,Sheet2!C41:D1048,2,0) -> 信息安全 | E43: =VLOOKUP(B43,Sheet1!B45:D1052,2,0) -> 网络空间安全学院 | F43: 二等奖
A44: 42 | B44: 16081615 | C44: 卢英俊 | D44: 信息对抗技术 | E44: =VLOOKUP(B44,Sheet1!B46:D1053,2,0) -> 通信工程学院 | F44: 二等奖
A45: 43 | B45: 16038512 | C45: 李金豪 | D45: =VLOOKUP(B45,Sheet2!C43:D1050,2,0) -> 网络工程 | E45: =VLOOKUP(B45,Sheet1!B48:D1055,2,0) -> 网络空间安全学院 | F45: 二等奖
A46: 44 | B46: 16041136 | C46: 杨徳辉 | D46: =VLOOKUP(B46,Sheet2!C44:D1051,2,0) -> 集成电路设计与集成系统 | E46: =VLOOKUP(B46,Sheet1!B50:D1057,2,0) -> 电子信息学院 | F46: 二等奖
A47: 45 | B47: 17061110 | C47: 郭鑫 | D47: =VLOOKUP(B47,Sheet2!C45:D1052,2,0) -> 自动化 | E47: =VLOOKUP(B47,Sheet1!B51:D1058,2,0) -> 自动化学院 | F47: 二等奖
A48: 46 | B48: 17072126 | C48: 吴佳明 | D48: =VLOOKUP(B48,Sheet2!C46:D1053,2,0) -> 电子信息工程 | E48: =VLOOKUP(B48,Sheet1!B52:D1059,2,0) -> 电子信息学院 | F48: 二等奖
A49: 47 | B49: 16081914 | C49: 傅鸿彬 | D49: =VLOOKUP(B49,Sheet2!C47:D1054,2,0) -> 通信工程 | E49: 通信工程学院 | F49: 二等奖
A50: 48 | B50: 16011409 | C50: 冯世玉 | D50: =VLOOKUP(B50,Sheet2!C48:D1055,2,0) -> 通信工程 | E50: 通信工程学院 | F50: 二等奖
A51: 49 | B51: 17072234 | C51: 余涛 | D51: 电子信息工程 | E51: 电子信息学院 | F51: 二等奖
A52: 50 | B52: 17011210 | C52: 李敬业 | D52: =VLOOKUP(B52,Sheet2!C50:D1057,2,0) -> 保密管理 | E52: =VLOOKUP(B52,Sheet1!B58:D1065,2,0) -> 管理学院 | F52: 二等奖
A53: 51 | B53: 16081433 | C53: 张惠文 | D53: =VLOOKUP(B53,Sheet2!C51:D1058,2,0) -> 通信工程 | E53: 通信工程学院 | F53: 二等奖
A54: 52 | B54: 16051212 | C54: 段航 | D54: =VLOOKUP(B54,Sheet2!C52:D1059,2,0) -> 计算机科学与技术 | E54: =VLOOKUP(B54,Sheet1!B60:D1067,2,0) -> 计算机学院 | F54: 二等奖
A55: 53 | B55: 16081527 | C55: 杨波 | D55: =VLOOKUP(B55,Sheet2!C53:D1060,2,0) -> 信息对抗技术 | E55: =VLOOKUP(B55,Sheet1!B61:D1068,2,0) -> 通信工程学院 | F55: 二等奖
A56: 54 | B56: 16071219 | C56: 严高凡 | D56: =VLOOKUP(B56,Sheet2!C54:D1061,2,0) -> 光电信息科学与工程 | E56: =VLOOKUP(B56,Sheet1!B62:D1069,2,0) -> 理学院 | F56: 二等奖
A57: 55 | B57: 16081109 | C57: 陈剑峰 | D57: =VLOOKUP(B57,Sheet2!C55:D1062,2,0) -> 信息安全 | E57: =VLOOKUP(B57,Sheet1!B41:D1048,2,0) -> 网络空间安全学院 | F57: 二等奖
A58: 56 | B58: 16205134 | C58: 袁俊 | D58: 材料类 | E58: 材料与环境工程学院 | F58: 二等奖
A59: 57 | B59: 16205330 | C59: 张旭 | D59: =VLOOKUP(B59,Sheet2!C57:D1064,2,0) -> 网络工程 | E59: =VLOOKUP(B59,Sheet1!B27:D1034,2,0) -> 网络空间安全学院 | F59: 二等奖
A60: 58 | B60: 16272110 | C60: 陈奇 | D60: =VLOOKUP(B60,Sheet2!C58:D1065,2,0) -> 网络工程 | E60: =VLOOKUP(B60,Sheet1!B28:D1035,2,0) -> 网络空间安全学院 | F60: 二等奖
A61: 59 | B61: 17041212 | C61: 黄煜 | D61: =VLOOKUP(B61,Sheet2!C59:D1066,2,0) -> 信息安全 | E61: =VLOOKUP(B61,Sheet1!B29:D1036,2,0) -> 网络空间安全学院 | F61: 二等奖
A62: 60 | B62: 17081131 | C62: 徐伊凡 | D62: =VLOOKUP(B62,Sheet2!C60:D1067,2,0) -> 信息安全 | E62: =VLOOKUP(B62,Sheet1!B30:D1037,2,0) -> 网络空间安全学院 | F62: 二等奖
A63: 61 | B63: 17271107 | C63: 丘舒懿 | D63: =VLOOKUP(B63,Sheet2!C61:D1068,2,0) -> 信息安全 | E63: =VLOOKUP(B63,Sheet1!B31:D1038,2,0) -> 网络空间安全学院 | F63: 二等奖
A64: 62 | B64: 17271214 | C64: 陈晴方 | D64: 信息安全 | E64: 网络空间安全学院 | F64: 二等奖
A65: 63 | B65: 15084243 | C65: 张睿天 | D65: =VLOOKUP(B65,Sheet2!C63:D1070,2,0) -> 信息安全 | E65: 网络空间安全学院 | F65: 三等奖
A66: 64 | B66: 16041110 | C66: 常洪钊 | D66: 集成电路设计与集成系统 | E66: 电子信息学院 | F66: 三等奖
A67: 65 | B67: 16041119 | C67: 黄恒嬴 | D67: 电子科学与技术 | E67: =VLOOKUP(B67,Sheet1!B35:D1042,2,0) -> 电子信息学院 | F67: 三等奖
A68: 66 | B68: 16041130 | C68: 秦苏林 | D68: 电子科学与技术 | E68: =VLOOKUP(B68,Sheet1!B36:D1043,2,0) -> 电子信息学院 | F68: 三等奖
A69: 67 | B69: 15041109 | C69: 蔡浩文 | D69: =VLOOKUP(B69,Sheet2!C67:D1074,2,0) -> 电子信息工程 | E69: =VLOOKUP(B69,Sheet1!B37:D1044,2,0) -> 电子信息学院 | F69: 三等奖
A70: 68 | B70: 15041110 | C70: 陈佳伟 | D70: =VLOOKUP(B70,Sheet2!C68:D1075,2,0) -> 电子信息工程 | E70: =VLOOKUP(B70,Sheet1!B38:D1045,2,0) -> 电子信息学院 | F70: 三等奖
A71: 69 | B71: 15200154 | C71: 沈金榜 | D71: =VLOOKUP(B71,Sheet2!C69:D1076,2,0) -> 环境工程 | E71: =VLOOKUP(B71,Sheet1!B39:D1046,2,0) -> 材料与环境工程学院 | F71: 三等奖
A72: 70 | B72: 16031722 | C72: 王赵涵 | D72: =VLOOKUP(B72,Sheet2!C70:D1077,2,0) -> 信息安全 | E72: =VLOOKUP(B72,Sheet1!B40:D1047,2,0) -> 网络空间安全学院 | F72: 三等奖
A73: 71 | B73: 16041343 | C73: 张金藏 | D73: 集成电路设计与集成系统 | E73: 电子信息学院 | F73: 三等奖
A74: 72 | B74: 16041718 | C74: 李瑞森 | D74: =VLOOKUP(B74,Sheet2!C72:D1079,2,0) -> 电子信息工程 | E74: =VLOOKUP(B74,Sheet1!B42:D1049,2,0) -> 电子信息学院 | F74: 三等奖
A75: 73 | B75: 16070413 | C75: 方锦山 | D75: 数学与应用数学(与金融学复合) | E75: =VLOOKUP(B75,Sheet1!B43:D1050,2,0) -> 经济学院 | F75: 三等奖
A76: 74 | B76: 16070424 | C76: 杨骁 | D76: =VLOOKUP(B76,Sheet2!C74:D1081,2,0) -> 数学与应用数学(与金融学复合) | E76: =VLOOKUP(B76,Sheet1!B44:D1051,2,0) -> 经济学院 | F76: 三等奖
A77: 75 | B77: 16071206 | C77: 邓子轩 | D77: =VLOOKUP(B77,Sheet2!C75:D1082,2,0) -> 通信工程 | E77: 通信工程学院 | F77: 三等奖
A78: 76 | B78: 16071209 | C78: 李顺 | D78: =VLOOKUP(B78,Sheet2!C76:D1083,2,0) -> 计算机科学与技术 | E78: 计算机学院 | F78: 三等奖
A79: 77 | B79: 16073128 | C79: 杨珀琨 | D79: =VLOOKUP(B79,Sheet2!C77:D1084,2,0) -> 信息安全 | E79: =VLOOKUP(B79,Sheet1!B47:D1054,2,0) -> 网络空间安全学院 | F79: 三等奖
A80: 78 | B80: 16081107 | C80: 徐亚楠 | D80: =VLOOKUP(B80,Sheet2!C78:D1085,2,0) -> 通信工程 | E80: 通信工程学院 | F80: 三等奖
A81: 79 | B81: 16081131 | C81: 赵思淇 | D81: =VLOOKUP(B81,Sheet2!C79:D1086,2,0) -> 通信工程 | E81: 通信工程学院 | F81: 三等奖
A82: 80 | B82: 16081212 | C82: 傅哲杰 | D82: =VLOOKUP(B82,Sheet2!C80:D1087,2,0) -> 通信工程 | E82: 通信工程学院 | F82: 三等奖
A83: 81 | B83: 16081219 | C83: 莫家吉 | D83: =VLOOKUP(B83,Sheet2!C81:D1088,2,0) -> 通信工程 | E83: 通信工程学院 | F83: 三等奖
A84: 82 | B84: 16081228 | C84: 叶倩宇 | D84: =VLOOKUP(B84,Sheet2!C82:D1089,2,0) -> 通信工程 | E84: 通信工程学院 | F84: 三等奖
A85: 83 | B85: 16081511 | C85: 郭东一 | D85: =VLOOKUP(B85,Sheet2!C83:D1090,2,0) -> 通信工程 | E85: 通信工程学院 | F85: 三等奖
A86: 84 | B86: 16081517 | C86: 彭湘辉 | D86: =VLOOKUP(B86,Sheet2!C84:D1091,2,0) -> 通信工程 | E86: 通信工程学院 | F86: 三等奖
A87: 85 | B87: 16081519 | C87: 沈飞翔 | D87: =VLOOKUP(B87,Sheet2!C85:D1092,2,0) -> 通信工程 | E87: 通信工程学院 | F87: 三等奖
A88: 86 | B88: 16081522 | C88: 谭路平 | D88: =VLOOKUP(B88,Sheet2!C86:D1093,2,0) -> 通信工程 | E88: 通信工程学院 | F88: 三等奖
A89: 87 | B89: 16081620 | C89: 王悦易 | D89: =VLOOKUP(B89,Sheet2!C87:D1094,2,0) -> 信息对抗技术 | E89: 通信工程学院 | F89: 三等奖
A90: 88 | B90: 16081717 | C90: 刘志龙 | D90: =VLOOKUP(B90,Sheet2!C88:D1095,2,0) -> 通信工程 | E90: 通信工程学院 | F90: 三等奖
A91: 89 | B91: 16081819 | C91: 梁鹏 | D91: =VLOOKUP(B91,Sheet2!C89:D1096,2,0) -> 通信工程 | E91: 通信工程学院 | F91: 三等奖
... A93: 91 | B93: 16081921 | C93: 任余楠 | D93: =VLOOKUP(B93,Sheet2!C91:D1098,2,0) -> 通信工程 | E93: 通信工程学院 | F93: 三等奖
A94: 92 | B94: 16081926 | C94: 尹立 | D94: =VLOOKUP(B94,Sheet2!C92:D1099,2,0) -> 通信工程 | E94: =VLOOKUP(B94,Sheet1!B62:D1069,2,0) -> 通信工程学院 | F94: 三等奖
A95: 93 | B95: 16154229 | C95: 钱云伦 | D95: =VLOOKUP(B95,Sheet2!C93:D1100,2,0) -> 统计学 | E95: =VLOOKUP(B95,Sheet1!B63:D1070,2,0) -> 经济学院 | F95: 三等奖
A96: 94 | B96: 16154234 | C96: 张健 | D96: =VLOOKUP(B96,Sheet2!C94:D1101,2,0) -> 数字媒体技术 | E96: 数字媒体与艺术设计学院 | F96: 三等奖
A97: 95 | B97: 16081910 | C97: 陈敏辉 | D97: 通信工程 | E97: 通信工程学院 | F97: 三等奖
A98: 96 | B98: 16120306 | C98: 胡丹琪 | D98: 财务管理 | E98: 会计学院 | F98: 三等奖
A99: 97 | B99: 16272111 | C99: 陈钊宇 | D99: =VLOOKUP(B99,Sheet2!C97:D1104,2,0) -> 网络工程 | E99: =VLOOKUP(B99,Sheet1!B67:D1074,2,0) -> 网络空间安全学院 | F99: 三等奖
A100: 98 | B100: 16272115 | C100: 韩磊 | D100: =VLOOKUP(B100,Sheet2!C98:D1105,2,0) -> 网络工程 | E100: =VLOOKUP(B100,Sheet1!B68:D1075,2,0) -> 网络空间安全学院 | F100: 三等奖
A101: 99 | B101: 16272133 | C101: 邢艺晖 | D101: =VLOOKUP(B101,Sheet2!C99:D1106,2,0) -> 网络工程 | E101: =VLOOKUP(B101,Sheet1!B69:D1076,2,0) -> 网络空间安全学院 | F101: 三等奖
...

Sheet Sheet1
A1: 王滇伟 | B1: 16041230 | C1: 电子信息学院
A2: 常洪钊 | B2: 16041110 | C2: 电子信息学院
A3: 曹佳芳 | B3: 17071101 | C3: 理学院
A4: 赵晨泽 | B4: 16081530 | C4: 通信工程学院
A5: 王嘉敏 | B5: 17141719 | C5: 会计学院
A6: 朱晨宇 | B6: 17071243 | C6: 理学院
A7: 胡天浩 | B7: 15200215 | C7: 计算机学院
A8: 黄明兴 | B8: 16041120 | C8: 电子信息学院
A9: 张申安 | B9: 16041344 | C9: 电子信息
A10: 吴月鹏 | B10: 16041134 | C10: 电子信息
A11: 陈智寅 | B11: 16041316 | C11: 电子信息学院
A12: 郑云迪 | B12: 16041445 | C12: 电子信息学院
... A1008: 方逢祺 | B1008: 17071122 | C1008: 理学院

Sheet Sheet2
A1: 王滇伟 | B1: 电子信息学院 | C1: 16041230 | D1: 集成电路设计与集成系统
A2: 常洪钊 | B2: 电子信息学院 | C2: 16041110 | D2: 集成
A3: 曹佳芳 | B3: 理学院 | C3: 17071101 | D3: 信息与计算科学
A4: 赵晨泽 | B4: 通信工程学院 | C4: 16081530 | D4: 通信工程
A5: 王嘉敏 | B5: 会计学院 | C5: 17141719 | D5: 会计
A6: 朱晨宇 | B6: 理学院 | C6: 17071243 | D6: 数学与应用数学
A7: 胡天浩 | B7: 计算机学院 | C7: 15200215 | D7: 物联网工程
A8: 黄明兴 | B8: 电子信息学院 | C8: 16041120 | D8: 集成电路设计与集成系统
A9: 张申安 | B9: 电子信息 | C9: 16041344 | D9: 电子信息工程
A10: 吴月鹏 | B10: 电子信息 | C10: 16041134 | D10: 集成电路设计与集成系统
A11: 陈智寅 | B11: 电子信息学院 | C11: 16041316 | D11: 集成设计
A12: 郑云迪 | B12: 电子信息学院 | C12: 16041445 | D12: 集成电路设计与集成系统
... A530: 黄飞 | B530: 管理学院 | C530: 15031339 | D530: 市场营销
A531: 李昊 | B531: 网络空间安全学院 | C531: 15084223 | D531: 15083612
A532: 谭路平 | B532: 通信工程 | C532: 16081522 | D532: 通信工程
A533: 曹芷君 | B533: 会计学院 | C533: 17141302 | D533: 会计学
A534: 郑航航 | B534: 通信工程学院 | C534: 16081531 | D534: 信息对抗技术
A535: 敖昕玥 | B535: 会计学院 | C535: 17141301 | D535: 会计
A536: 徐钦超 | B536: 通信工程 | C536: 17081130 | D536: 通信工程
A537: 孙宇 | B537: 通信工程 | C537: 16081603 | D537: 通信工程
A538: 张衡权 | B538: 网络空间安全学院 | C538: 15084242 | D538: 信息安全
A539: 徐少剑 | B539: 数字媒体与艺术设计学院 | C539: 15222514 | D539: 数字媒体技术
A540: 周航 | B540: 网络空间安全学院 | C540: 15084211 | D540: 信息安全
A541: 盛意浓 | B541: 通信工程学院 | C541: 16081520 | D541: 通信工程类
A542: 余琪圣 | B542: 数字媒体与艺术设计学院 | C542: 15222519 | D542: 数字媒体技术
A543: 祝剑军 | B543: 机械工程学院 | C543: 16011235 | D543: 机械设计制造及其自动化
... A684: 张舒娴 | B684: 经济学院 | C684: 16151119 | D684: 国际经济与贸易
A685: 吴逸芃 | B685: 通信工程学院 | C685: 16081324 | D685: 16083413
A686: 赵诗雨 | B686: 经济学院 | C686: 17158219 | D686: 国际经济与贸易
A687: 姜霓裳 | B687: 理学院 | C687: 17071103 | D687: 信息与计算科学
A688: 刘炯晗 | B688: 通信工程 | C688: 16081103 | D688: 通信工程
A689: 钟哲 | B689: 经济学院 | C689: 16153150 | D689: 经济学
A690: 尹立 | B690: 通信工程 | C690: 16081926 | D690: 通信工程
A691: 张杰 | B691: 通信工程 | C691: 16081129 | D691: 通信工程
A692: 陈曈 | B692: 材环学院 | C692: 17201301 | D692: 材料
A693: 张裕康 | B693: 通信工程 | C693: 16081929 | D693: 通信工程
A694: 李星辉 | B694: 通信工程学院 | C694: 16081413 | D694: 通信工程
A695: 徐陟怡 | B695: 通信工程 | C695: 16081526 | D695: 通信工程
A696: 何明坤 | B696: 通信工程学院 | C696: 16081612 | D696: 信息对抗技术
A697: 陈明 | B697: 经济学院 | C697: 16070410 | D697: 数学与应用数学（与金融学复合）
... A1006: 袁华智 | B1006: 理学 | C1006: 17071143 | D1006: 信息与计算科学
A1007: 郑秋涵 | B1007: 理学院 | C1007: 17071116 | D1007: 13777814773
A1008: 方逢祺 | B1008: 理学院 | C1008: 17071122 | D1008: 13372415600
